BEGIN:VCALENDAR
VERSION:2.0
PRODID:-//Sonder &amp; Dram - ECPv6.11.2//NONSGML v1.0//EN
CALSCALE:GREGORIAN
METHOD:PUBLISH
X-WR-CALNAME:Sonder &amp; Dram
X-ORIGINAL-URL:https://sonderdram.com
X-WR-CALDESC:Events for Sonder &amp; Dram
REFRESH-INTERVAL;VALUE=DURATION:PT1H
X-Robots-Tag:noindex
X-PUBLISHED-TTL:PT1H
BEGIN:VTIMEZONE
TZID:America/New_York
BEGIN:DAYLIGHT
TZOFFSETFROM:-0500
TZOFFSETTO:-0400
TZNAME:EDT
DTSTART:20240310T070000
END:DAYLIGHT
BEGIN:STANDARD
TZOFFSETFROM:-0400
TZOFFSETTO:-0500
TZNAME:EST
DTSTART:20241103T060000
END:STANDARD
END:VTIMEZONE
BEGIN:VEVENT
DTSTART;TZID=America/New_York:20241002T170000
DTEND;TZID=America/New_York:20241002T180000
DTSTAMP:20260421T100142
CREATED:20240925T141510Z
LAST-MODIFIED:20240925T142429Z
UID:19110-1727888400-1727892000@sonderdram.com
SUMMARY:Happy Hour
DESCRIPTION:Happy Hour Wednesday – Saturday\, 5-6 pm!
URL:https://sonderdram.com/event/happy-hour-2/
LOCATION:ME
ATTACH;FMTTYPE=image/jpeg:https://sonderdram.com/wp-content/uploads/2024/09/Happy-Hour-July-24-scaled.jpg
END:VEVENT
BEGIN:VEVENT
DTSTART;TZID=America/New_York:20241017T183000
DTEND;TZID=America/New_York:20241017T213000
DTSTAMP:20260421T100142
CREATED:20240401T203729Z
LAST-MODIFIED:20241015T144718Z
UID:9479-1729189800-1729200600@sonderdram.com
SUMMARY:Live Music - Ben Kilcollins
DESCRIPTION:Live Music with Ben Kilcollins tonight\, 6:30 – 9:30!
URL:https://sonderdram.com/event/live-music-ben-kilcollins-14/
LOCATION:Sonder & Dram\, 12 Ash Street\, Lewiston\, ME\, 04240
CATEGORIES:Live Music
ATTACH;FMTTYPE=image/jpeg:https://sonderdram.com/wp-content/uploads/2023/11/Ben-Kilcollins-Tonight-scaled.jpg
END:VEVENT
END:VCALENDAR