BEGIN:VCALENDAR
VERSION:2.0
PRODID:-//Sonder &amp; Dram - ECPv6.11.2//NONSGML v1.0//EN
CALSCALE:GREGORIAN
METHOD:PUBLISH
X-WR-CALNAME:Sonder &amp; Dram
X-ORIGINAL-URL:https://sonderdram.com
X-WR-CALDESC:Events for Sonder &amp; Dram
REFRESH-INTERVAL;VALUE=DURATION:PT1H
X-Robots-Tag:noindex
X-PUBLISHED-TTL:PT1H
BEGIN:VTIMEZONE
TZID:America/New_York
BEGIN:DAYLIGHT
TZOFFSETFROM:-0500
TZOFFSETTO:-0400
TZNAME:EDT
DTSTART:20240310T070000
END:DAYLIGHT
BEGIN:STANDARD
TZOFFSETFROM:-0400
TZOFFSETTO:-0500
TZNAME:EST
DTSTART:20241103T060000
END:STANDARD
END:VTIMEZONE
BEGIN:VEVENT
DTSTART;TZID=America/New_York:20241002T170000
DTEND;TZID=America/New_York:20241002T180000
DTSTAMP:20260421T072625
CREATED:20240925T141510Z
LAST-MODIFIED:20240925T142429Z
UID:19110-1727888400-1727892000@sonderdram.com
SUMMARY:Happy Hour
DESCRIPTION:Happy Hour Wednesday – Saturday\, 5-6 pm!
URL:https://sonderdram.com/event/happy-hour-2/
LOCATION:ME
ATTACH;FMTTYPE=image/jpeg:https://sonderdram.com/wp-content/uploads/2024/09/Happy-Hour-July-24-scaled.jpg
END:VEVENT
BEGIN:VEVENT
DTSTART;TZID=America/New_York:20241031T170000
DTEND;TZID=America/New_York:20241031T180000
DTSTAMP:20260421T072625
CREATED:20241027T181257Z
LAST-MODIFIED:20241027T181257Z
UID:19632-1730394000-1730397600@sonderdram.com
SUMMARY:Happy Hour
DESCRIPTION:Happy Hour Wednesday – Saturday\, 5-6 pm!
URL:https://sonderdram.com/event/happy-hour-4/
LOCATION:Sonder & Dram\, 12 Ash Street\, Lewiston\, ME\, 04240
ATTACH;FMTTYPE=image/jpeg:https://sonderdram.com/wp-content/uploads/2024/09/Happy-Hour-July-24-scaled.jpg
END:VEVENT
BEGIN:VEVENT
DTSTART;TZID=America/New_York:20241031T170000
DTEND;TZID=America/New_York:20241031T230000
DTSTAMP:20260421T072625
CREATED:20241027T182051Z
LAST-MODIFIED:20241027T182051Z
UID:19640-1730394000-1730415600@sonderdram.com
SUMMARY:College Night
DESCRIPTION:College Night every Thursday! 5-11
URL:https://sonderdram.com/event/college-night-2/
LOCATION:Sonder & Dram\, 12 Ash Street\, Lewiston\, ME\, 04240
ATTACH;FMTTYPE=image/jpeg:https://sonderdram.com/wp-content/uploads/2024/08/College-Night-Post-scaled.jpg
END:VEVENT
BEGIN:VEVENT
DTSTART;TZID=America/New_York:20241031T170000
DTEND;TZID=America/New_York:20241031T230000
DTSTAMP:20260421T072625
CREATED:20241027T183416Z
LAST-MODIFIED:20241027T183416Z
UID:19663-1730394000-1730415600@sonderdram.com
SUMMARY:Tequila Thursday
DESCRIPTION:Rotating tequila specials every Thursday!
URL:https://sonderdram.com/event/tequila-thursday-5/
LOCATION:Sonder & Dram\, 12 Ash Street\, Lewiston\, ME\, 04240
ATTACH;FMTTYPE=image/jpeg:https://sonderdram.com/wp-content/uploads/2024/10/Tequila-Thursday-8.18.23-scaled.jpg
END:VEVENT
END:VCALENDAR