BEGIN:VCALENDAR
VERSION:2.0
PRODID:-//Sonder &amp; Dram - ECPv6.11.2//NONSGML v1.0//EN
CALSCALE:GREGORIAN
METHOD:PUBLISH
X-ORIGINAL-URL:https://sonderdram.com
X-WR-CALDESC:Events for Sonder &amp; Dram
REFRESH-INTERVAL;VALUE=DURATION:PT1H
X-Robots-Tag:noindex
X-PUBLISHED-TTL:PT1H
BEGIN:VTIMEZONE
TZID:America/New_York
BEGIN:DAYLIGHT
TZOFFSETFROM:-0500
TZOFFSETTO:-0400
TZNAME:EDT
DTSTART:20240310T070000
END:DAYLIGHT
BEGIN:STANDARD
TZOFFSETFROM:-0400
TZOFFSETTO:-0500
TZNAME:EST
DTSTART:20241103T060000
END:STANDARD
END:VTIMEZONE
BEGIN:VEVENT
DTSTART;TZID=America/New_York:20240504T183000
DTEND;TZID=America/New_York:20240504T213000
DTSTAMP:20260421T220607
CREATED:20240119T184123Z
LAST-MODIFIED:20240214T151844Z
UID:4760-1714847400-1714858200@sonderdram.com
SUMMARY:Live Music - Ben Kilcollins
DESCRIPTION:Live Music with Ben Kilcollins tonight\, 6:30 – 9:30!
URL:https://sonderdram.com/event/live-music-ben-kilcollins-9/
LOCATION:Sonder & Dram\, 12 Ash Street\, Lewiston\, ME\, 04240
CATEGORIES:Live Music
ATTACH;FMTTYPE=image/jpeg:https://sonderdram.com/wp-content/uploads/2023/11/Ben-Kilcollins-Tonight-scaled.jpg
END:VEVENT
BEGIN:VEVENT
DTSTART;TZID=America/New_York:20240509T183000
DTEND;TZID=America/New_York:20240509T213000
DTSTAMP:20260421T220607
CREATED:20240106T002616Z
LAST-MODIFIED:20240401T204752Z
UID:3963-1715279400-1715290200@sonderdram.com
SUMMARY:Live Music - Andi Fawcett
DESCRIPTION:Live Music with Andi Fawcett tonight\, 6:30 – 9:30!
URL:https://sonderdram.com/event/live-music-andrea-fawcett-3/
LOCATION:Sonder & Dram\, 12 Ash Street\, Lewiston\, ME\, 04240
CATEGORIES:Live Music
ATTACH;FMTTYPE=image/jpeg:https://sonderdram.com/wp-content/uploads/2024/01/Andrea-Fawcett-Tonight-1-scaled.jpg
END:VEVENT
BEGIN:VEVENT
DTSTART;TZID=America/New_York:20240511T160000
DTEND;TZID=America/New_York:20240511T230000
DTSTAMP:20260421T220607
CREATED:20240503T143934Z
LAST-MODIFIED:20240503T144423Z
UID:12797-1715443200-1715468400@sonderdram.com
SUMMARY:Mother's Day Specials
DESCRIPTION:Food and drink specials May 11 to celebrate Mom!
URL:https://sonderdram.com/event/mothers-day-specials/
LOCATION:Sonder & Dram\, 12 Ash Street\, Lewiston\, ME\, 04240
CATEGORIES:Live Music
ATTACH;FMTTYPE=image/jpeg:https://sonderdram.com/wp-content/uploads/2024/05/SD-Moms-Day-2024-scaled.jpg
END:VEVENT
BEGIN:VEVENT
DTSTART;TZID=America/New_York:20240516T183000
DTEND;TZID=America/New_York:20240516T213000
DTSTAMP:20260421T220607
CREATED:20240108T162133Z
LAST-MODIFIED:20240214T151736Z
UID:4103-1715884200-1715895000@sonderdram.com
SUMMARY:Live Music - Toby McAllister
DESCRIPTION:Live Music with Toby McAllister tonight\, 6:30 – 9:30!
URL:https://sonderdram.com/event/live-music-toby-mcallister-2/
LOCATION:Sonder & Dram\, 12 Ash Street\, Lewiston\, ME\, 04240
CATEGORIES:Live Music
ATTACH;FMTTYPE=image/jpeg:https://sonderdram.com/wp-content/uploads/2024/01/Toby-McAllister-Tonight-scaled.jpg
END:VEVENT
BEGIN:VEVENT
DTSTART;TZID=America/New_York:20240525T163000
DTEND;TZID=America/New_York:20240525T213000
DTSTAMP:20260421T220607
CREATED:20240514T143321Z
LAST-MODIFIED:20240514T143321Z
UID:13900-1716654600-1716672600@sonderdram.com
SUMMARY:Live Music - Rob Duquette
DESCRIPTION:Live Music with Rob Duquette tonight\, 6:30 – 9:30!
URL:https://sonderdram.com/event/live-music-rob-duquette-3/
LOCATION:Sonder & Dram\, 12 Ash Street\, Lewiston\, ME\, 04240
CATEGORIES:Live Music
ATTACH;FMTTYPE=image/jpeg:https://sonderdram.com/wp-content/uploads/2024/01/Rob-Duquette-Tonight-scaled.jpg
END:VEVENT
BEGIN:VEVENT
DTSTART;TZID=America/New_York:20240529T160000
DTEND;TZID=America/New_York:20240529T210000
DTSTAMP:20260421T220607
CREATED:20240528T195740Z
LAST-MODIFIED:20240528T195740Z
UID:14456-1716998400-1717016400@sonderdram.com
SUMMARY:WX4
DESCRIPTION:Wine. Whiskey. Wings. Wednesday. \nWine and Whiskey discounts and half price wings every Wednesday!
URL:https://sonderdram.com/event/wx4/
LOCATION:Sonder & Dram\, 12 Ash Street\, Lewiston\, ME\, 04240
ATTACH;FMTTYPE=image/jpeg:https://sonderdram.com/wp-content/uploads/2024/05/W4X-1-2-scaled.jpg
END:VEVENT
BEGIN:VEVENT
DTSTART;TZID=America/New_York:20240530T183000
DTEND;TZID=America/New_York:20240530T213000
DTSTAMP:20260421T220607
CREATED:20240110T232513Z
LAST-MODIFIED:20240214T151459Z
UID:4131-1717093800-1717104600@sonderdram.com
SUMMARY:Live Music - Jay Larkin
DESCRIPTION:Live Music with Jay Larkin tonight\, 6:30 – 9:30!
URL:https://sonderdram.com/event/live-music-jay-larkin-2/
LOCATION:Sonder & Dram\, 12 Ash Street\, Lewiston\, ME\, 04240
CATEGORIES:Live Music
ATTACH;FMTTYPE=image/jpeg:https://sonderdram.com/wp-content/uploads/2024/01/Jay-Larkin-Tonight-scaled.jpg
END:VEVENT
END:VCALENDAR